BEGIN:VCALENDAR
VERSION:2.0
PRODID:-//Indian Coffee Culture - ECPv6.14.2//NONSGML v1.0//EN
CALSCALE:GREGORIAN
METHOD:PUBLISH
X-WR-CALNAME:Indian Coffee Culture
X-ORIGINAL-URL:https://indiancoffeeculture.com
X-WR-CALDESC:Events for Indian Coffee Culture
REFRESH-INTERVAL;VALUE=DURATION:PT1H
X-Robots-Tag:noindex
X-PUBLISHED-TTL:PT1H
BEGIN:VTIMEZONE
TZID:UTC
BEGIN:STANDARD
TZOFFSETFROM:+0000
TZOFFSETTO:+0000
TZNAME:UTC
DTSTART:20190101T000000
END:STANDARD
END:VTIMEZONE
BEGIN:VEVENT
DTSTART;TZID=UTC:20190914T140000
DTEND;TZID=UTC:20190914T170000
DTSTAMP:20260423T130108
CREATED:20190903T095225Z
LAST-MODIFIED:20191009T111535Z
UID:75088-1568469600-1568480400@indiancoffeeculture.com
SUMMARY:AEROPRESS CHAMPIONSHIP INDIA 2019 | MUMBAI
DESCRIPTION:The World AeroPress Championship is a global coffee-making competition\, designed to find the world’s best cup of AeroPress coffee. \nEach season is comprised of a series of regional and national competitions\, run by independent hosts across 60 countries\, which culminates with the World AeroPress Championship final. \nThe competition itself is a multi-round elimination tournament. \nAt its heart\, the World AeroPress Championship exists to bring coffee-loving people together in an open\, inclusive\, and fun environment. Surrounding the competition itself you can expect music and good times. Yes\, it’s serious… It’s just not that serious. The winner of this year’s INDIAN AEROPRESS CHAMPIONSHIP will be representing India in LONDON at the WORLD AEROPRESS CHAMPIONSHIP 2019
URL:https://indiancoffeeculture.com/event/aeropress-championship-india-2019-mumbai/
LOCATION:Coffee Bi De Bella\, Mumbai\, Maharashtra.\, Coffee Bi De Bella\, Mumbai\, Maharashtra\, India
END:VEVENT
BEGIN:VEVENT
DTSTART;TZID=UTC:20190909T110000
DTEND;TZID=UTC:20190909T170000
DTSTAMP:20260423T130108
CREATED:20190903T095107Z
LAST-MODIFIED:20191009T111535Z
UID:75086-1568026800-1568048400@indiancoffeeculture.com
SUMMARY:AEROPRESS CHAMPIONSHIP INDIA 2019 | DELHI
DESCRIPTION:The World AeroPress Championship is a global coffee-making competition\, designed to find the world’s best cup of AeroPress coffee. \nEach season is comprised of a series of regional and national competitions\, run by independent hosts across 60 countries\, which culminates with the World AeroPress Championship final. \nThe competition itself is a multi-round elimination tournament. \nAt its heart\, the World AeroPress Championship exists to bring coffee-loving people together in an open\, inclusive\, and fun environment. Surrounding the competition itself you can expect music and good times. Yes\, it’s serious… It’s just not that serious. The winner of this year’s INDIAN AEROPRESS CHAMPIONSHIP will be representing India in LONDON at the WORLD AEROPRESS CHAMPIONSHIP 2019
URL:https://indiancoffeeculture.com/event/aeropress-championship-india-2019-delhi/
LOCATION:Quick Brown Fox Coffee Roasters\, New Delhi.\, Quick Brown Fox Coffee Roasters\, New Delhi\, Delhi\, India
END:VEVENT
BEGIN:VEVENT
DTSTART;TZID=UTC:20190903T140000
DTEND;TZID=UTC:20190903T170000
DTSTAMP:20260423T130108
CREATED:20190903T094930Z
LAST-MODIFIED:20191009T111535Z
UID:75084-1567519200-1567530000@indiancoffeeculture.com
SUMMARY:AEROPRESS CHAMPIONSHIP INDIA 2019 | BENGALURU
DESCRIPTION:The World AeroPress Championship is a global coffee-making competition\, designed to find the world’s best cup of AeroPress coffee. \nEach season is comprised of a series of regional and national competitions\, run by independent hosts across 60 countries\, which culminates with the World AeroPress Championship final. \nThe competition itself is a multi-round elimination tournament. \nAt its heart\, the World AeroPress Championship exists to bring coffee-loving people together in an open\, inclusive\, and fun environment. Surrounding the competition itself you can expect music and good times. Yes\, it’s serious… It’s just not that serious. The winner of this year’s INDIAN AEROPRESS CHAMPIONSHIP will be representing India in LONDON at the WORLD AEROPRESS CHAMPIONSHIP 2019
URL:https://indiancoffeeculture.com/event/aeropress-championship-india-2019-bengaluru/
LOCATION:Blue Tokai\, Bengaluru\, Karnataka.\, Blue Tokai\, Bengaluru\, Karnataka\, India
END:VEVENT
BEGIN:VEVENT
DTSTART;TZID=UTC:20190826T140000
DTEND;TZID=UTC:20190826T170000
DTSTAMP:20260423T130108
CREATED:20190903T094630Z
LAST-MODIFIED:20191009T111535Z
UID:75081-1566828000-1566838800@indiancoffeeculture.com
SUMMARY:AEROPRESS CHAMPIONSHIP INDIA 2019 I KOLKATA
DESCRIPTION:The World AeroPress Championship is a global coffee-making competition\, designed to find the world’s best cup of AeroPress coffee. \nEach season is comprised of a series of regional and national competitions\, run by independent hosts across 60 countries\, which culminates with the World AeroPress Championship final. \nThe competition itself is a multi-round elimination tournament. \nAt its heart\, the World AeroPress Championship exists to bring coffee-loving people together in an open\, inclusive\, and fun environment. Surrounding the competition itself you can expect music and good times. Yes\, it’s serious… It’s just not that serious. The winner of this year’s INDIAN AEROPRESS CHAMPIONSHIP will be representing India in LONDON at the WORLD AEROPRESS CHAMPIONSHIP 2019
URL:https://indiancoffeeculture.com/event/aeropress-championship-india-2019-i-kolkata/
LOCATION:Roastery Coffee House\,Kolkata\, West Bengal.\, Roastery Coffee House\, Kolkata\, West Bengal\, India
END:VEVENT
BEGIN:VEVENT
DTSTART;TZID=UTC:20190819T140000
DTEND;TZID=UTC:20190819T170000
DTSTAMP:20260423T130108
CREATED:20190903T094458Z
LAST-MODIFIED:20191009T111535Z
UID:75079-1566223200-1566234000@indiancoffeeculture.com
SUMMARY:AEROPRESS CHAMPIONSHIP INDIA 2019 | HYDERABAD
DESCRIPTION:The World AeroPress Championship is a global coffee-making competition\, designed to find the world’s best cup of AeroPress coffee. \nEach season is comprised of a series of regional and national competitions\, run by independent hosts across 60 countries\, which culminates with the World AeroPress Championship final. \nThe competition itself is a multi-round elimination tournament. \nAt its heart\, the World AeroPress Championship exists to bring coffee-loving people together in an open\, inclusive\, and fun environment. Surrounding the competition itself you can expect music and good times. Yes\, it’s serious… It’s just not that serious. The winner of this year’s INDIAN AEROPRESS CHAMPIONSHIP will be representing India in LONDON at the WORLD AEROPRESS CHAMPIONSHIP 2019
URL:https://indiancoffeeculture.com/event/aeropress-championship-india-2019-hyderabad/
LOCATION:Roastery Coffee House\, Banjara Hills\, Hyderabad\, Andhra Pradesh\, India
END:VEVENT
END:VCALENDAR